BEGIN:VCALENDAR
VERSION:2.0
PRODID:spatie/icalendar-generator
DESCRIPTION:Events from The Hub and Spoke
X-WR-CALDESC:Events from The Hub and Spoke
REFRESH-INTERVAL;VALUE=DURATION:PT1440M
X-PUBLISHED-TTL:PT1440M
BEGIN:VTIMEZONE
TZID:Etc/GMT+0
BEGIN:STANDARD
DTSTART:20240617T120000Z
TZOFFSETFROM:+0000
TZOFFSETTO:+0000
END:STANDARD
END:VTIMEZONE
BEGIN:VTIMEZONE
TZID:UTC
BEGIN:STANDARD
DTSTART:20250725T085316Z
TZOFFSETFROM:+0000
TZOFFSETTO:+0000
END:STANDARD
END:VTIMEZONE
BEGIN:VEVENT
UID:10-10
DTSTAMP:20260421T085316Z
SUMMARY:Learning Lunch- Ingredients for a High Performing Team- Hosted By L
 iz Byrne
LOCATION:
ORGANIZER;CN=adm_TPRW_Rutland:MAILTO:emilian@rutlandwebdesigner.co.uk
DTSTART;TZID=Etc/GMT+0:20250314T120000
DTEND;TZID=Etc/GMT+0:20250314T133000
X-ALT-DESC;FMTTYPE=TEXT/HTML:<p>What makes a great team unstoppable? It’s
  not luck—it’s knowing the right tools and principles to unlock potent
 ial. Achieving a high-performing team isn’t a coincidence—it’s based
  on key principles you can implement right away. This workshop provides to
 ols to elevate your team’s performance and help them thrive.</p>\n<p>Key
  Takeaways:<br />\n•	Learn key principles for creating a high-performing
  team<br />\n•	Boost collaboration and individual potential<br />\n•	P
 ractical strategies to help your team hit their stride and perform at thei
 r best—every day.<br />\n<a href="/event-registration/" class="regist
 er_btn">Register Now</a></p>\n
CATEGORIES:General
URL;VALUE=URI:https://thehubandspoke.co.uk/mc-events/learning-lunch-ingredi
 ents-for-a-high-performing-team-hosted-by-liz-byrne/
METHOD:PUBLISH
END:VEVENT
END:VCALENDAR